BEGIN:VCALENDAR
VERSION:2.0
PRODID:-//Plone.org//NONSGML plone.app.event//EN
X-WR-TIMEZONE:Europe/Berlin
BEGIN:VEVENT
SUMMARY:Dr. Jekyll and Mr. Hyde
DTSTART;TZID=Europe/Berlin:20120321T203000
DTSTAMP:20260424T201901Z
UID:a8f92fbb0d5448009d4f93e26164a042@zmi.spielboden.at
CREATED:20120910T122452Z
DESCRIPTION:Peter Madsen & CIA play Silent Movies
LAST-MODIFIED:20210809T124614Z
URL:https://zmi.spielboden.at/Plone/veranstaltungen/2012/03_maerz/die-buch
 se-der-pandora
END:VEVENT
BEGIN:VTIMEZONE
TZID:Europe/Berlin
X-LIC-LOCATION:Europe/Berlin
BEGIN:STANDARD
DTSTART:20111030T020000
TZNAME:CET
TZOFFSETFROM:+0200
TZOFFSETTO:+0100
END:STANDARD
END:VTIMEZONE
END:VCALENDAR
