BEGIN:VCALENDAR
VERSION:2.0
PRODID:-//Plone.org//NONSGML plone.app.event//EN
X-WR-TIMEZONE:Europe/Berlin
BEGIN:VEVENT
SUMMARY:Der Prozess
DTSTART;TZID=Europe/Berlin:20120301T203000
DTSTAMP:20260424T202719Z
UID:405178841e3146c38df6c9b38ce50b27@zmi.spielboden.at
CREATED:20120910T122517Z
LAST-MODIFIED:20210809T124616Z
URL:https://zmi.spielboden.at/Plone/veranstaltungen/2012/03_maerz/der-proz
 ess
END:VEVENT
BEGIN:VTIMEZONE
TZID:Europe/Berlin
X-LIC-LOCATION:Europe/Berlin
BEGIN:STANDARD
DTSTART:20111030T020000
TZNAME:CET
TZOFFSETFROM:+0200
TZOFFSETTO:+0100
END:STANDARD
END:VTIMEZONE
END:VCALENDAR
