BEGIN:VCALENDAR
VERSION:2.0
PRODID:-//Plone.org//NONSGML plone.app.event//EN
X-WR-TIMEZONE:Europe/Berlin
BEGIN:VEVENT
SUMMARY:Der atmende Gott
DTSTART;TZID=Europe/Berlin:20120311T170000
DTSTAMP:20260424T202415Z
UID:87e49470e8ad4988b7ceec03a846c9c9@zmi.spielboden.at
CREATED:20120910T122514Z
DESCRIPTION:Reise zum Ursprung des modernen Yoga
LAST-MODIFIED:20210809T124615Z
URL:https://zmi.spielboden.at/Plone/veranstaltungen/2012/03_maerz/der-atme
 nde-gott
END:VEVENT
BEGIN:VTIMEZONE
TZID:Europe/Berlin
X-LIC-LOCATION:Europe/Berlin
BEGIN:STANDARD
DTSTART:20111030T020000
TZNAME:CET
TZOFFSETFROM:+0200
TZOFFSETTO:+0100
END:STANDARD
END:VTIMEZONE
END:VCALENDAR
