BEGIN:VCALENDAR
VERSION:2.0
PRODID:-//Plone.org//NONSGML plone.app.event//EN
X-WR-TIMEZONE:Europe/Berlin
BEGIN:VEVENT
SUMMARY:Filmreihe Bio Austria – Gekaufte Wahrheit
DTSTART;TZID=Europe/Berlin:20120328T203000
DTSTAMP:20260424T203904Z
UID:e9b80c90bf3447e580ca28ddf2d432f0@zmi.spielboden.at
CREATED:20120910T122257Z
DESCRIPTION:in Zusammenarbeit mit BIO-Austria
LAST-MODIFIED:20210809T124600Z
URL:https://zmi.spielboden.at/Plone/veranstaltungen/2012/03_maerz/copy_of_
 filmreihe-bio-austria-2013-gekaufte-wahrheit
END:VEVENT
BEGIN:VTIMEZONE
TZID:Europe/Berlin
X-LIC-LOCATION:Europe/Berlin
BEGIN:DAYLIGHT
DTSTART:20120325T030000
TZNAME:CEST
TZOFFSETFROM:+0100
TZOFFSETTO:+0200
END:DAYLIGHT
END:VTIMEZONE
END:VCALENDAR
