BEGIN:VCALENDAR
VERSION:2.0
PRODID:-//Plone.org//NONSGML plone.app.event//EN
X-WR-TIMEZONE:Europe/Berlin
BEGIN:VEVENT
SUMMARY:Der Prozess
DTSTART;TZID=Europe/Berlin:20120306T203000
DTSTAMP:20260424T202110Z
UID:6e5f684ee1f741d7991443f026f823fe@zmi.spielboden.at
CREATED:20120910T122506Z
LAST-MODIFIED:20210809T124615Z
URL:https://zmi.spielboden.at/Plone/veranstaltungen/2012/03_maerz/copy_of_
 der-prozess
END:VEVENT
BEGIN:VTIMEZONE
TZID:Europe/Berlin
X-LIC-LOCATION:Europe/Berlin
BEGIN:STANDARD
DTSTART:20111030T020000
TZNAME:CET
TZOFFSETFROM:+0200
TZOFFSETTO:+0100
END:STANDARD
END:VTIMEZONE
END:VCALENDAR
