BEGIN:VCALENDAR
VERSION:2.0
PRODID:-//Plone.org//NONSGML plone.app.event//EN
X-WR-TIMEZONE:Europe/Berlin
BEGIN:VEVENT
SUMMARY:Der atmende Gott
DTSTART;TZID=Europe/Berlin:20120312T203000
DTSTAMP:20260424T220009Z
UID:36283b13aec64ba2837630a9ce491c5a@zmi.spielboden.at
CREATED:20120910T122712Z
DESCRIPTION:Reise zum Ursprung des modernen Yoga
LAST-MODIFIED:20210809T123358Z
URL:https://zmi.spielboden.at/Plone/veranstaltungen/2012/03_maerz/copy_of_
 der-atmende-gott
END:VEVENT
BEGIN:VTIMEZONE
TZID:Europe/Berlin
X-LIC-LOCATION:Europe/Berlin
BEGIN:STANDARD
DTSTART:20111030T020000
TZNAME:CET
TZOFFSETFROM:+0200
TZOFFSETTO:+0100
END:STANDARD
END:VTIMEZONE
END:VCALENDAR
