BEGIN:VCALENDAR
VERSION:2.0
PRODID:-//Plone.org//NONSGML plone.app.event//EN
X-WR-TIMEZONE:Europe/Berlin
BEGIN:VEVENT
SUMMARY:Der Prozess
DTSTART;TZID=Europe/Berlin:20120307T203000
DTSTAMP:20260424T202533Z
UID:2c0bbd0f7b03483bbb5f22d8eaed1c7a@zmi.spielboden.at
CREATED:20120910T122508Z
LAST-MODIFIED:20210809T124615Z
URL:https://zmi.spielboden.at/Plone/veranstaltungen/2012/03_maerz/copy2_of
 _der-prozess
END:VEVENT
BEGIN:VTIMEZONE
TZID:Europe/Berlin
X-LIC-LOCATION:Europe/Berlin
BEGIN:STANDARD
DTSTART:20111030T020000
TZNAME:CET
TZOFFSETFROM:+0200
TZOFFSETTO:+0100
END:STANDARD
END:VTIMEZONE
END:VCALENDAR
