BEGIN:VCALENDAR
VERSION:2.0
PRODID:-//Plone.org//NONSGML plone.app.event//EN
X-WR-TIMEZONE:Europe/Berlin
BEGIN:VEVENT
SUMMARY:Der atmende Gott
DTSTART;TZID=Europe/Berlin:20120311T193000
DTSTAMP:20260424T202835Z
UID:d026e54c0ddc4f069f19ec8bd344c2bc@zmi.spielboden.at
CREATED:20120910T122533Z
DESCRIPTION:Reise zum Ursprung des modernen Yoga
LAST-MODIFIED:20210809T124617Z
URL:https://zmi.spielboden.at/Plone/veranstaltungen/2012/03_maerz/copy2_of
 _der-atmende-gott
END:VEVENT
BEGIN:VTIMEZONE
TZID:Europe/Berlin
X-LIC-LOCATION:Europe/Berlin
BEGIN:STANDARD
DTSTART:20111030T020000
TZNAME:CET
TZOFFSETFROM:+0200
TZOFFSETTO:+0100
END:STANDARD
END:VTIMEZONE
END:VCALENDAR
