BEGIN:VCALENDAR
VERSION:2.0
PRODID:-//Plone.org//NONSGML plone.app.event//EN
X-WR-TIMEZONE:Europe/Berlin
BEGIN:VEVENT
SUMMARY:Der Datendieb
DTSTART;TZID=Europe/Berlin:20120308T203000
DTSTAMP:20260424T223659Z
UID:6bb3183fb0dd4ac288a268dcd181bfb3@zmi.spielboden.at
CREATED:20120910T122725Z
DESCRIPTION:Wie Heinrich Kieber den größten Steuerskandal aller Zeiten a
 uslöste
LAST-MODIFIED:20210809T123358Z
URL:https://zmi.spielboden.at/Plone/veranstaltungen/2012/03_maerz/201eder-
 datendieb-2013-wie-heinrich-kieber-den-grosten-steuerskandal-aller-zeiten-
 ausloste201c
END:VEVENT
BEGIN:VTIMEZONE
TZID:Europe/Berlin
X-LIC-LOCATION:Europe/Berlin
BEGIN:STANDARD
DTSTART:20111030T020000
TZNAME:CET
TZOFFSETFROM:+0200
TZOFFSETTO:+0100
END:STANDARD
END:VTIMEZONE
END:VCALENDAR
