BEGIN:VCALENDAR
VERSION:2.0
PRODID:-//Plone.org//NONSGML plone.app.event//EN
X-WR-TIMEZONE:Europe/Berlin
BEGIN:VEVENT
SUMMARY:12th Guinness CELTIC SPRING CARAVAN 2012
DTSTART;TZID=Europe/Berlin:20120315T203000
DTSTAMP:20260424T202315Z
UID:83c1b8cd5ab8411fbcfd7052b18174db@zmi.spielboden.at
CREATED:20120910T122323Z
DESCRIPTION:JACKIE OATES (GB) & NIAMH NI CHARRA (IRL)
LAST-MODIFIED:20210809T124604Z
URL:https://zmi.spielboden.at/Plone/veranstaltungen/2012/03_maerz/12th-gui
 nness-celtic-spring-caravan-2012
END:VEVENT
BEGIN:VTIMEZONE
TZID:Europe/Berlin
X-LIC-LOCATION:Europe/Berlin
BEGIN:STANDARD
DTSTART:20111030T020000
TZNAME:CET
TZOFFSETFROM:+0200
TZOFFSETTO:+0100
END:STANDARD
END:VTIMEZONE
END:VCALENDAR
