BEGIN:VCALENDAR
VERSION:2.0
PRODID:-//Plone.org//NONSGML plone.app.event//EN
X-WR-TIMEZONE:Europe/Berlin
BEGIN:VEVENT
SUMMARY:Sound Terrasse
DTSTART;TZID=Europe/Berlin:20120225T210000
DTSTAMP:20260422T171403Z
UID:a41aca80185847d89ff25b13ef0515d0@zmi.spielboden.at
CREATED:20120910T122549Z
LAST-MODIFIED:20210809T123353Z
URL:https://zmi.spielboden.at/Plone/veranstaltungen/2012/02_februar/sound-
 terrasse-vermietung-1
END:VEVENT
BEGIN:VTIMEZONE
TZID:Europe/Berlin
X-LIC-LOCATION:Europe/Berlin
BEGIN:STANDARD
DTSTART:20111030T020000
TZNAME:CET
TZOFFSETFROM:+0200
TZOFFSETTO:+0100
END:STANDARD
END:VTIMEZONE
END:VCALENDAR
