BEGIN:VCALENDAR
VERSION:2.0
PRODID:-//Plone.org//NONSGML plone.app.event//EN
X-WR-TIMEZONE:Europe/Berlin
BEGIN:VEVENT
SUMMARY:RePlay. Amateurfilmer erzählen
DTSTART;TZID=Europe/Berlin:20120208T193000
DTSTAMP:20260422T172001Z
UID:7242f1459bf74f249d67c5c4ef6fa1e4@zmi.spielboden.at
CREATED:20120910T122534Z
LAST-MODIFIED:20210809T124617Z
URL:https://zmi.spielboden.at/Plone/veranstaltungen/2012/02_februar/replay
 -amateurfilmer-erzahlen
END:VEVENT
BEGIN:VTIMEZONE
TZID:Europe/Berlin
X-LIC-LOCATION:Europe/Berlin
BEGIN:STANDARD
DTSTART:20111030T020000
TZNAME:CET
TZOFFSETFROM:+0200
TZOFFSETTO:+0100
END:STANDARD
END:VTIMEZONE
END:VCALENDAR
