BEGIN:VCALENDAR
VERSION:2.0
PRODID:-//Plone.org//NONSGML plone.app.event//EN
X-WR-TIMEZONE:Europe/Berlin
BEGIN:VEVENT
SUMMARY:provinztheater Egg – Eine Reise nach Erfahrungen
DTSTART;TZID=Europe/Berlin:20120225T150000
DTSTAMP:20260422T171524Z
UID:b3ec80cf9440420b9fbc5e5687563090@zmi.spielboden.at
CREATED:20120910T122857Z
DESCRIPTION:nach dem Kinderbuch von Maritgen Matter „Ein Schaf fürs Leb
 en“\, ab 5 Jahren\, powered by Dorner\n
LAST-MODIFIED:20210809T123405Z
URL:https://zmi.spielboden.at/Plone/veranstaltungen/2012/02_februar/provin
 ztheater-egg-2013-eine-reise-nach-erfahrungen
END:VEVENT
BEGIN:VTIMEZONE
TZID:Europe/Berlin
X-LIC-LOCATION:Europe/Berlin
BEGIN:STANDARD
DTSTART:20111030T020000
TZNAME:CET
TZOFFSETFROM:+0200
TZOFFSETTO:+0100
END:STANDARD
END:VTIMEZONE
END:VCALENDAR
