BEGIN:VCALENDAR
VERSION:2.0
PRODID:-//Plone.org//NONSGML plone.app.event//EN
X-WR-TIMEZONE:Europe/Berlin
BEGIN:VEVENT
SUMMARY:Mostly Other People Do The Killing
DTSTART;TZID=Europe/Berlin:20120218T203000
DTSTAMP:20260422T171148Z
UID:b6a5f085274c4a56a91e144e0dec5831@zmi.spielboden.at
CREATED:20120910T122805Z
LAST-MODIFIED:20210809T123401Z
URL:https://zmi.spielboden.at/Plone/veranstaltungen/2012/02_februar/mostly
 -other-people-do-the-killing
END:VEVENT
BEGIN:VTIMEZONE
TZID:Europe/Berlin
X-LIC-LOCATION:Europe/Berlin
BEGIN:STANDARD
DTSTART:20111030T020000
TZNAME:CET
TZOFFSETFROM:+0200
TZOFFSETTO:+0100
END:STANDARD
END:VTIMEZONE
END:VCALENDAR
