BEGIN:VCALENDAR
VERSION:2.0
PRODID:-//Plone.org//NONSGML plone.app.event//EN
X-WR-TIMEZONE:Europe/Berlin
BEGIN:VEVENT
SUMMARY:MIAU! - Die Reise ins Elektroland
DTSTART;TZID=Europe/Berlin:20120211T200000
DTSTAMP:20260424T141039Z
UID:1ba910bf985e4a3e931d3e4ecd8b25cc@zmi.spielboden.at
CREATED:20120910T122537Z
LAST-MODIFIED:20210809T124617Z
URL:https://zmi.spielboden.at/Plone/veranstaltungen/2012/02_februar/miau-d
 ie-reise-ins-elektroland
END:VEVENT
BEGIN:VTIMEZONE
TZID:Europe/Berlin
X-LIC-LOCATION:Europe/Berlin
BEGIN:STANDARD
DTSTART:20111030T020000
TZNAME:CET
TZOFFSETFROM:+0200
TZOFFSETTO:+0100
END:STANDARD
END:VTIMEZONE
END:VCALENDAR
