BEGIN:VCALENDAR
VERSION:2.0
PRODID:-//Plone.org//NONSGML plone.app.event//EN
X-WR-TIMEZONE:Europe/Berlin
BEGIN:VEVENT
SUMMARY:Lesebühne – Slam Poetry Uncut # 4
DTSTART;TZID=Europe/Berlin:20120210T203000
DTSTAMP:20260422T171721Z
UID:b856e63a62dc44448cb079368ed3f9bd@zmi.spielboden.at
CREATED:20120910T122802Z
DESCRIPTION:Das Lesen geht weiter! 
LAST-MODIFIED:20210809T123401Z
URL:https://zmi.spielboden.at/Plone/veranstaltungen/2012/02_februar/lesebu
 hne-2013-slam-poetry-uncut-4
END:VEVENT
BEGIN:VTIMEZONE
TZID:Europe/Berlin
X-LIC-LOCATION:Europe/Berlin
BEGIN:STANDARD
DTSTART:20111030T020000
TZNAME:CET
TZOFFSETFROM:+0200
TZOFFSETTO:+0100
END:STANDARD
END:VTIMEZONE
END:VCALENDAR
