BEGIN:VCALENDAR
VERSION:2.0
PRODID:-//Plone.org//NONSGML plone.app.event//EN
X-WR-TIMEZONE:Europe/Berlin
BEGIN:VEVENT
SUMMARY:Jam on Poetry
DTSTART;TZID=Europe/Berlin:20120223T200000
DTSTAMP:20260422T171114Z
UID:051f4aed79614190948378b2aa42ea8a@zmi.spielboden.at
CREATED:20120910T122742Z
LAST-MODIFIED:20120910T122742Z
URL:https://zmi.spielboden.at/Plone/veranstaltungen/2012/02_februar/jam-on
 -poetry
END:VEVENT
BEGIN:VTIMEZONE
TZID:Europe/Berlin
X-LIC-LOCATION:Europe/Berlin
BEGIN:STANDARD
DTSTART:20111030T020000
TZNAME:CET
TZOFFSETFROM:+0200
TZOFFSETTO:+0100
END:STANDARD
END:VTIMEZONE
END:VCALENDAR
