BEGIN:VCALENDAR
VERSION:2.0
PRODID:-//Plone.org//NONSGML plone.app.event//EN
X-WR-TIMEZONE:Europe/Berlin
BEGIN:VEVENT
SUMMARY:Filmreihe Psychische Krankheiten – Aus tiefster Seele
DTSTART;TZID=Europe/Berlin:20120214T203000
DTSTAMP:20260422T185403Z
UID:a6bd71c59576493cbb9579bd45531399@zmi.spielboden.at
CREATED:20120910T123032Z
DESCRIPTION:(in Zusammenarbeit mit pro mente Vorarlberg)
LAST-MODIFIED:20210809T123410Z
URL:https://zmi.spielboden.at/Plone/veranstaltungen/2012/02_februar/filmre
 ihe-psychische-krankheiten-2013-aus-tiefster-seele
END:VEVENT
BEGIN:VTIMEZONE
TZID:Europe/Berlin
X-LIC-LOCATION:Europe/Berlin
BEGIN:STANDARD
DTSTART:20111030T020000
TZNAME:CET
TZOFFSETFROM:+0200
TZOFFSETTO:+0100
END:STANDARD
END:VTIMEZONE
END:VCALENDAR
