BEGIN:VCALENDAR
VERSION:2.0
PRODID:-//Plone.org//NONSGML plone.app.event//EN
X-WR-TIMEZONE:Europe/Berlin
BEGIN:VEVENT
SUMMARY:Fatoumata Diawara
DTSTART;TZID=Europe/Berlin:20120228T203000
DTSTAMP:20260422T134659Z
UID:c16c53dcbcf4445fabf92e0f94785cb9@zmi.spielboden.at
CREATED:20120910T122740Z
LAST-MODIFIED:20260417T081322Z
URL:https://zmi.spielboden.at/Plone/veranstaltungen/2012/02_februar/fatoum
 ata-diawara
END:VEVENT
BEGIN:VTIMEZONE
TZID:Europe/Berlin
X-LIC-LOCATION:Europe/Berlin
BEGIN:STANDARD
DTSTART:20111030T020000
TZNAME:CET
TZOFFSETFROM:+0200
TZOFFSETTO:+0100
END:STANDARD
END:VTIMEZONE
END:VCALENDAR
