BEGIN:VCALENDAR
VERSION:2.0
PRODID:-//Plone.org//NONSGML plone.app.event//EN
X-WR-TIMEZONE:Europe/Berlin
BEGIN:VEVENT
SUMMARY:Faro Theater – Veronika Degler – Die zweite Prinzessin
DTSTART;TZID=Europe/Berlin:20120204T150000
DTSTAMP:20260422T172217Z
UID:a601d788af984392aa2d362bda7debff@zmi.spielboden.at
CREATED:20120910T122855Z
DESCRIPTION:von Gertrud Pigor frei nach dem Bilderbuch von Tony Ross und H
 iawyn Oram\, ab 4 Jahren 
LAST-MODIFIED:20210809T123404Z
URL:https://zmi.spielboden.at/Plone/veranstaltungen/2012/02_februar/faro-t
 heater-2013-veronika-degler-2013-die-zweite-prinzessin
END:VEVENT
BEGIN:VTIMEZONE
TZID:Europe/Berlin
X-LIC-LOCATION:Europe/Berlin
BEGIN:STANDARD
DTSTART:20111030T020000
TZNAME:CET
TZOFFSETFROM:+0200
TZOFFSETTO:+0100
END:STANDARD
END:VTIMEZONE
END:VCALENDAR
