BEGIN:VCALENDAR
VERSION:2.0
PRODID:-//Plone.org//NONSGML plone.app.event//EN
X-WR-TIMEZONE:Europe/Berlin
BEGIN:VEVENT
SUMMARY:Dee Dolen feat. Peter Herbert
DTSTART;TZID=Europe/Berlin:20120204T203000
DTSTAMP:20260422T170947Z
UID:857267f57bdd425ea6c8ac99839d72f6@zmi.spielboden.at
CREATED:20120910T122913Z
LAST-MODIFIED:20210809T123406Z
URL:https://zmi.spielboden.at/Plone/veranstaltungen/2012/02_februar/dee-do
 len-feat-peter-herbert
END:VEVENT
BEGIN:VTIMEZONE
TZID:Europe/Berlin
X-LIC-LOCATION:Europe/Berlin
BEGIN:STANDARD
DTSTART:20111030T020000
TZNAME:CET
TZOFFSETFROM:+0200
TZOFFSETTO:+0100
END:STANDARD
END:VTIMEZONE
END:VCALENDAR
