BEGIN:VCALENDAR
VERSION:2.0
PRODID:-//Plone.org//NONSGML plone.app.event//EN
X-WR-TIMEZONE:Europe/Berlin
BEGIN:VEVENT
SUMMARY:Bernd Begemann - Solo!
DTSTART;TZID=Europe/Berlin:20120217T210000
DTSTAMP:20260422T185009Z
UID:e2e34053aa754697a7494a389167a47a@zmi.spielboden.at
CREATED:20120910T122659Z
DESCRIPTION:Wer will noch mal\, wer hat noch nicht??!
LAST-MODIFIED:20210809T123357Z
URL:https://zmi.spielboden.at/Plone/veranstaltungen/2012/02_februar/bernd-
 begemann
END:VEVENT
BEGIN:VTIMEZONE
TZID:Europe/Berlin
X-LIC-LOCATION:Europe/Berlin
BEGIN:STANDARD
DTSTART:20111030T020000
TZNAME:CET
TZOFFSETFROM:+0200
TZOFFSETTO:+0100
END:STANDARD
END:VTIMEZONE
END:VCALENDAR
