BEGIN:VCALENDAR
VERSION:2.0
PRODID:-//Plone.org//NONSGML plone.app.event//EN
X-WR-TIMEZONE:Europe/Berlin
BEGIN:VEVENT
SUMMARY:Ball der Kulturen
DTSTART;TZID=Europe/Berlin:20120203T190000
DTSTAMP:20260422T171148Z
UID:04a678ef8f4947ce8fa8cd10051f6576@zmi.spielboden.at
CREATED:20120910T122755Z
LAST-MODIFIED:20210809T123401Z
URL:https://zmi.spielboden.at/Plone/veranstaltungen/2012/02_februar/ball-d
 er-kulturen
END:VEVENT
BEGIN:VTIMEZONE
TZID:Europe/Berlin
X-LIC-LOCATION:Europe/Berlin
BEGIN:STANDARD
DTSTART:20111030T020000
TZNAME:CET
TZOFFSETFROM:+0200
TZOFFSETTO:+0100
END:STANDARD
END:VTIMEZONE
END:VCALENDAR
