BEGIN:VCALENDAR
VERSION:2.0
PRODID:-//Plone.org//NONSGML plone.app.event//EN
X-WR-TIMEZONE:Europe/Berlin
BEGIN:VEVENT
SUMMARY:31. Jahreshauptversammlung des Vereins Spielboden Dornbirn
DTSTART;TZID=Europe/Berlin:20120229T190000
DTSTAMP:20260422T172207Z
UID:7dfcb7e75ab9452dad9954a8eacf0974@zmi.spielboden.at
CREATED:20120910T122548Z
LAST-MODIFIED:20120910T122548Z
URL:https://zmi.spielboden.at/Plone/veranstaltungen/2012/02_februar/31-jah
 reshauptversammlung-des-vereins-spielboden-dornbirn
END:VEVENT
BEGIN:VTIMEZONE
TZID:Europe/Berlin
X-LIC-LOCATION:Europe/Berlin
BEGIN:STANDARD
DTSTART:20111030T020000
TZNAME:CET
TZOFFSETFROM:+0200
TZOFFSETTO:+0100
END:STANDARD
END:VTIMEZONE
END:VCALENDAR
