BEGIN:VCALENDAR
VERSION:2.0
PRODID:-//Plone.org//NONSGML plone.app.event//EN
X-WR-TIMEZONE:Europe/Berlin
BEGIN:VEVENT
SUMMARY:Volksgruppen in Österreich
DTSTART;TZID=Europe/Berlin:20120124T190000
DTSTAMP:20260422T171403Z
UID:01de309c045f409a84072c3690d33771@zmi.spielboden.at
CREATED:20120910T122545Z
LAST-MODIFIED:20120910T122546Z
URL:https://zmi.spielboden.at/Plone/veranstaltungen/2012/01_jaenner/volksg
 ruppen-in-osterreich
END:VEVENT
BEGIN:VTIMEZONE
TZID:Europe/Berlin
X-LIC-LOCATION:Europe/Berlin
BEGIN:STANDARD
DTSTART:20111030T020000
TZNAME:CET
TZOFFSETFROM:+0200
TZOFFSETTO:+0100
END:STANDARD
END:VTIMEZONE
END:VCALENDAR
