BEGIN:VCALENDAR
VERSION:2.0
PRODID:-//Plone.org//NONSGML plone.app.event//EN
X-WR-TIMEZONE:Europe/Berlin
BEGIN:VEVENT
SUMMARY:Vijay Iyer\, Prasanna & Nitin Mitta „tirtha“
DTSTART;TZID=Europe/Berlin:20120127T203000
DTSTAMP:20260422T171513Z
UID:fa51aca2919a41fd9f2281ab66fc1232@zmi.spielboden.at
CREATED:20120910T122658Z
LAST-MODIFIED:20210809T123357Z
URL:https://zmi.spielboden.at/Plone/veranstaltungen/2012/01_jaenner/vijay-
 iyer-prasanna-nitin-mitta-201etirtha201c
END:VEVENT
BEGIN:VTIMEZONE
TZID:Europe/Berlin
X-LIC-LOCATION:Europe/Berlin
BEGIN:STANDARD
DTSTART:20111030T020000
TZNAME:CET
TZOFFSETFROM:+0200
TZOFFSETTO:+0100
END:STANDARD
END:VTIMEZONE
END:VCALENDAR
