BEGIN:VCALENDAR
VERSION:2.0
PRODID:-//Plone.org//NONSGML plone.app.event//EN
X-WR-TIMEZONE:Europe/Berlin
BEGIN:VEVENT
SUMMARY:Reh
DTSTART;TZID=Europe/Berlin:20120113T220000
DTSTAMP:20260422T170910Z
UID:bd72263558174111aec775b97e1eed87@zmi.spielboden.at
CREATED:20120910T122357Z
LAST-MODIFIED:20210809T124606Z
URL:https://zmi.spielboden.at/Plone/veranstaltungen/2012/01_jaenner/reh
END:VEVENT
BEGIN:VTIMEZONE
TZID:Europe/Berlin
X-LIC-LOCATION:Europe/Berlin
BEGIN:STANDARD
DTSTART:20111030T020000
TZNAME:CET
TZOFFSETFROM:+0200
TZOFFSETTO:+0100
END:STANDARD
END:VTIMEZONE
END:VCALENDAR
