BEGIN:VCALENDAR
VERSION:2.0
PRODID:-//Plone.org//NONSGML plone.app.event//EN
X-WR-TIMEZONE:Europe/Berlin
BEGIN:VEVENT
SUMMARY:Pop & Wave Party
DTSTART;TZID=Europe/Berlin:20120107T210000
DTSTAMP:20260422T185018Z
UID:5281b4d2c69c42569cb5e9dc8c407329@zmi.spielboden.at
CREATED:20120910T123033Z
LAST-MODIFIED:20120910T123033Z
URL:https://zmi.spielboden.at/Plone/veranstaltungen/2012/01_jaenner/pop-wa
 ve-party
END:VEVENT
BEGIN:VTIMEZONE
TZID:Europe/Berlin
X-LIC-LOCATION:Europe/Berlin
BEGIN:STANDARD
DTSTART:20111030T020000
TZNAME:CET
TZOFFSETFROM:+0200
TZOFFSETTO:+0100
END:STANDARD
END:VTIMEZONE
END:VCALENDAR
