BEGIN:VCALENDAR
VERSION:2.0
PRODID:-//Plone.org//NONSGML plone.app.event//EN
X-WR-TIMEZONE:Europe/Berlin
BEGIN:VEVENT
SUMMARY:Neujahrskonzert – Vivid
DTSTART;TZID=Europe/Berlin:20120102T210000
DTSTAMP:20260422T171141Z
UID:51048e3636494c65bcf67580c315cd37@zmi.spielboden.at
CREATED:20120910T122438Z
LAST-MODIFIED:20210809T124611Z
URL:https://zmi.spielboden.at/Plone/veranstaltungen/2012/01_jaenner/neujah
 rskonzert-2013-vivid
END:VEVENT
BEGIN:VTIMEZONE
TZID:Europe/Berlin
X-LIC-LOCATION:Europe/Berlin
BEGIN:STANDARD
DTSTART:20111030T020000
TZNAME:CET
TZOFFSETFROM:+0200
TZOFFSETTO:+0100
END:STANDARD
END:VTIMEZONE
END:VCALENDAR
