BEGIN:VCALENDAR
VERSION:2.0
PRODID:-//Plone.org//NONSGML plone.app.event//EN
X-WR-TIMEZONE:Europe/Berlin
BEGIN:VEVENT
SUMMARY:Neujahrskonzert – Jules Attic
DTSTART;TZID=Europe/Berlin:20120103T210000
DTSTAMP:20260422T185209Z
UID:8ebbe398763a460c9b73734aea3edc70@zmi.spielboden.at
CREATED:20120910T122952Z
LAST-MODIFIED:20210809T123408Z
URL:https://zmi.spielboden.at/Plone/veranstaltungen/2012/01_jaenner/neujah
 rskonzert-2013-jules-attic
END:VEVENT
BEGIN:VTIMEZONE
TZID:Europe/Berlin
X-LIC-LOCATION:Europe/Berlin
BEGIN:STANDARD
DTSTART:20111030T020000
TZNAME:CET
TZOFFSETFROM:+0200
TZOFFSETTO:+0100
END:STANDARD
END:VTIMEZONE
END:VCALENDAR
