BEGIN:VCALENDAR
VERSION:2.0
PRODID:-//Plone.org//NONSGML plone.app.event//EN
X-WR-TIMEZONE:Europe/Berlin
BEGIN:VEVENT
SUMMARY:Neujahrskonzert – John Peel Club & Burning Rosettas
DTSTART;TZID=Europe/Berlin:20120104T210000
DTSTAMP:20260424T153407Z
UID:6560b1c55e5f41efb8851013be159a54@zmi.spielboden.at
CREATED:20120910T122835Z
LAST-MODIFIED:20210809T123403Z
URL:https://zmi.spielboden.at/Plone/veranstaltungen/2012/01_jaenner/neujah
 rskonzert-2013-john-peel-club-burning-rosettas
END:VEVENT
BEGIN:VTIMEZONE
TZID:Europe/Berlin
X-LIC-LOCATION:Europe/Berlin
BEGIN:STANDARD
DTSTART:20111030T020000
TZNAME:CET
TZOFFSETFROM:+0200
TZOFFSETTO:+0100
END:STANDARD
END:VTIMEZONE
END:VCALENDAR
