BEGIN:VCALENDAR
VERSION:2.0
PRODID:-//Plone.org//NONSGML plone.app.event//EN
X-WR-TIMEZONE:Europe/Berlin
BEGIN:VEVENT
SUMMARY:Konrad & die Kapazunder – „na sowas“
DTSTART;TZID=Europe/Berlin:20120128T150000
DTSTAMP:20260422T185235Z
UID:f401725a0e354b7f888e3000bbe418e0@zmi.spielboden.at
CREATED:20120910T122853Z
DESCRIPTION:Kinderkonzert und CD-Präsentation ab 4 Jahren 
LAST-MODIFIED:20210809T123404Z
URL:https://zmi.spielboden.at/Plone/veranstaltungen/2012/01_jaenner/konrad
 -die-kapazunder-2013-201ena-sowas201c
END:VEVENT
BEGIN:VTIMEZONE
TZID:Europe/Berlin
X-LIC-LOCATION:Europe/Berlin
BEGIN:STANDARD
DTSTART:20111030T020000
TZNAME:CET
TZOFFSETFROM:+0200
TZOFFSETTO:+0100
END:STANDARD
END:VTIMEZONE
END:VCALENDAR
