BEGIN:VCALENDAR
VERSION:2.0
PRODID:-//Plone.org//NONSGML plone.app.event//EN
X-WR-TIMEZONE:Europe/Berlin
BEGIN:VEVENT
SUMMARY:Killed By 9V Batteries + Support
DTSTART;TZID=Europe/Berlin:20120121T210000
DTSTAMP:20260422T171114Z
UID:259592946d354d839e400e7ff65d4b67@zmi.spielboden.at
CREATED:20120910T122251Z
LAST-MODIFIED:20210809T124559Z
URL:https://zmi.spielboden.at/Plone/veranstaltungen/2012/01_jaenner/killed
 -by-9v-batteries
END:VEVENT
BEGIN:VTIMEZONE
TZID:Europe/Berlin
X-LIC-LOCATION:Europe/Berlin
BEGIN:STANDARD
DTSTART:20111030T020000
TZNAME:CET
TZOFFSETFROM:+0200
TZOFFSETTO:+0100
END:STANDARD
END:VTIMEZONE
END:VCALENDAR
