BEGIN:VCALENDAR
VERSION:2.0
PRODID:-//Plone.org//NONSGML plone.app.event//EN
X-WR-TIMEZONE:Europe/Berlin
BEGIN:VEVENT
SUMMARY:Inni - Sigur Ros
DTSTART;TZID=Europe/Berlin:20120124T203000
DTSTAMP:20260422T171145Z
UID:a8f1844c11bd42a0947e8395c08ca8d0@zmi.spielboden.at
CREATED:20120910T122542Z
LAST-MODIFIED:20210809T124617Z
URL:https://zmi.spielboden.at/Plone/veranstaltungen/2012/01_jaenner/inni-s
 igur-ros
END:VEVENT
BEGIN:VTIMEZONE
TZID:Europe/Berlin
X-LIC-LOCATION:Europe/Berlin
BEGIN:STANDARD
DTSTART:20111030T020000
TZNAME:CET
TZOFFSETFROM:+0200
TZOFFSETTO:+0100
END:STANDARD
END:VTIMEZONE
END:VCALENDAR
