BEGIN:VCALENDAR
VERSION:2.0
PRODID:-//Plone.org//NONSGML plone.app.event//EN
X-WR-TIMEZONE:Europe/Berlin
BEGIN:VEVENT
SUMMARY:Hosea Ratschiller – Das gehört nicht hierher
DTSTART;TZID=Europe/Berlin:20120120T203000
DTSTAMP:20260422T171527Z
UID:1f97559070d149e3ad17ceec586e6fcb@zmi.spielboden.at
CREATED:20120910T122822Z
LAST-MODIFIED:20210809T123402Z
URL:https://zmi.spielboden.at/Plone/veranstaltungen/2012/01_jaenner/hosea-
 ratschiller-2013-das-gehort-nicht-hierher
END:VEVENT
BEGIN:VTIMEZONE
TZID:Europe/Berlin
X-LIC-LOCATION:Europe/Berlin
BEGIN:STANDARD
DTSTART:20111030T020000
TZNAME:CET
TZOFFSETFROM:+0200
TZOFFSETTO:+0100
END:STANDARD
END:VTIMEZONE
END:VCALENDAR
