BEGIN:VCALENDAR
VERSION:2.0
PRODID:-//Plone.org//NONSGML plone.app.event//EN
X-WR-TIMEZONE:Europe/Berlin
BEGIN:VEVENT
SUMMARY:Filmreihe Psychische Krankheiten – Small World
DTSTART;TZID=Europe/Berlin:20120131T203000
DTSTAMP:20260422T172412Z
UID:b9ec6a9603cd4d38bca4f3de7a5624f0@zmi.spielboden.at
CREATED:20120910T122247Z
DESCRIPTION:(in Zusammenarbeit mit pro mente Vorarlberg)
LAST-MODIFIED:20210809T124559Z
URL:https://zmi.spielboden.at/Plone/veranstaltungen/2012/01_jaenner/filmre
 ihe-psychische-krankheiten-2013-small-world
END:VEVENT
BEGIN:VTIMEZONE
TZID:Europe/Berlin
X-LIC-LOCATION:Europe/Berlin
BEGIN:STANDARD
DTSTART:20111030T020000
TZNAME:CET
TZOFFSETFROM:+0200
TZOFFSETTO:+0100
END:STANDARD
END:VTIMEZONE
END:VCALENDAR
