BEGIN:VCALENDAR
VERSION:2.0
PRODID:-//Plone.org//NONSGML plone.app.event//EN
X-WR-TIMEZONE:Europe/Berlin
BEGIN:VEVENT
SUMMARY:FADO – der Blues Portugals mit „Esquina de Alfama”
DTSTART;TZID=Europe/Berlin:20120126T203000
DTSTAMP:20260422T172217Z
UID:87262aa286bc475cbbf03945d2b1fc86@zmi.spielboden.at
CREATED:20120910T122325Z
DESCRIPTION:Österreich-Premiere eines authentischen Fado-Ensembles aus de
 m Lissabonner Alfama-Viertel.
LAST-MODIFIED:20210809T124604Z
URL:https://zmi.spielboden.at/Plone/veranstaltungen/2012/01_jaenner/esquin
 a-de-alfama-2013-fado-201eder-blues-portugals201d
END:VEVENT
BEGIN:VTIMEZONE
TZID:Europe/Berlin
X-LIC-LOCATION:Europe/Berlin
BEGIN:STANDARD
DTSTART:20111030T020000
TZNAME:CET
TZOFFSETFROM:+0200
TZOFFSETTO:+0100
END:STANDARD
END:VTIMEZONE
END:VCALENDAR
