BEGIN:VCALENDAR
VERSION:2.0
PRODID:-//Plone.org//NONSGML plone.app.event//EN
X-WR-TIMEZONE:Europe/Berlin
BEGIN:VEVENT
SUMMARY:DISCO
DTSTART;TZID=Europe/Berlin:20120114T210000
DTSTAMP:20260422T184850Z
UID:4777022e440f4b81931c73e58b18b736@zmi.spielboden.at
CREATED:20120910T122358Z
DESCRIPTION:mit DJFastman (Zürich)\, Manifredo (V) und Joe (V)
LAST-MODIFIED:20210809T124606Z
URL:https://zmi.spielboden.at/Plone/veranstaltungen/2012/01_jaenner/disco
END:VEVENT
BEGIN:VTIMEZONE
TZID:Europe/Berlin
X-LIC-LOCATION:Europe/Berlin
BEGIN:STANDARD
DTSTART:20111030T020000
TZNAME:CET
TZOFFSETFROM:+0200
TZOFFSETTO:+0100
END:STANDARD
END:VTIMEZONE
END:VCALENDAR
