BEGIN:VCALENDAR
VERSION:2.0
PRODID:-//Plone.org//NONSGML plone.app.event//EN
X-WR-TIMEZONE:Europe/Berlin
BEGIN:VEVENT
SUMMARY:The Cat and the Canary
DTSTART;TZID=Europe/Berlin:20120125T203000
DTSTAMP:20260422T171019Z
UID:f631ec25dd0148aeac36396eb9a44606@zmi.spielboden.at
CREATED:20120910T122335Z
DESCRIPTION:Peter Madsen & CIA play Silent Movies
LAST-MODIFIED:20210809T124605Z
URL:https://zmi.spielboden.at/Plone/veranstaltungen/2012/01_jaenner/die-bu
 chse-der-pandora
END:VEVENT
BEGIN:VTIMEZONE
TZID:Europe/Berlin
X-LIC-LOCATION:Europe/Berlin
BEGIN:STANDARD
DTSTART:20111030T020000
TZNAME:CET
TZOFFSETFROM:+0200
TZOFFSETTO:+0100
END:STANDARD
END:VTIMEZONE
END:VCALENDAR
