BEGIN:VCALENDAR
VERSION:2.0
PRODID:-//Plone.org//NONSGML plone.app.event//EN
X-WR-TIMEZONE:Europe/Berlin
BEGIN:VEVENT
SUMMARY:Volksgruppen in Österreich
DTSTART;TZID=Europe/Berlin:20120125T190000
DTSTAMP:20260422T212557Z
UID:093c7edb1aab4f0cb1a7233addae6507@zmi.spielboden.at
CREATED:20120910T122546Z
LAST-MODIFIED:20120910T122546Z
URL:https://zmi.spielboden.at/Plone/veranstaltungen/2012/01_jaenner/copy_o
 f_volksgruppen-in-osterreich
END:VEVENT
BEGIN:VTIMEZONE
TZID:Europe/Berlin
X-LIC-LOCATION:Europe/Berlin
BEGIN:STANDARD
DTSTART:20111030T020000
TZNAME:CET
TZOFFSETFROM:+0200
TZOFFSETTO:+0100
END:STANDARD
END:VTIMEZONE
END:VCALENDAR
