BEGIN:VCALENDAR
VERSION:2.0
PRODID:-//Plone.org//NONSGML plone.app.event//EN
X-WR-TIMEZONE:Europe/Berlin
BEGIN:VEVENT
SUMMARY:Volksgruppen in Österreich
DTSTART;TZID=Europe/Berlin:20120128T190000
DTSTAMP:20260422T171527Z
UID:08eabbbaf31e4ba596bd65030237040b@zmi.spielboden.at
CREATED:20120910T122536Z
LAST-MODIFIED:20120910T122536Z
URL:https://zmi.spielboden.at/Plone/veranstaltungen/2012/01_jaenner/copy4_
 of_volksgruppen-in-osterreich
END:VEVENT
BEGIN:VTIMEZONE
TZID:Europe/Berlin
X-LIC-LOCATION:Europe/Berlin
BEGIN:STANDARD
DTSTART:20111030T020000
TZNAME:CET
TZOFFSETFROM:+0200
TZOFFSETTO:+0100
END:STANDARD
END:VTIMEZONE
END:VCALENDAR
