BEGIN:VCALENDAR
VERSION:2.0
PRODID:-//Plone.org//NONSGML plone.app.event//EN
X-WR-TIMEZONE:Europe/Berlin
BEGIN:VEVENT
SUMMARY:Volksgruppen in Österreich
DTSTART;TZID=Europe/Berlin:20120126T190000
DTSTAMP:20260422T171514Z
UID:d8dbf36e8042436c88a930781efe845f@zmi.spielboden.at
CREATED:20120910T122547Z
LAST-MODIFIED:20120910T122547Z
URL:https://zmi.spielboden.at/Plone/veranstaltungen/2012/01_jaenner/copy2_
 of_volksgruppen-in-osterreich
END:VEVENT
BEGIN:VTIMEZONE
TZID:Europe/Berlin
X-LIC-LOCATION:Europe/Berlin
BEGIN:STANDARD
DTSTART:20111030T020000
TZNAME:CET
TZOFFSETFROM:+0200
TZOFFSETTO:+0100
END:STANDARD
END:VTIMEZONE
END:VCALENDAR
