BEGIN:VCALENDAR
VERSION:2.0
PRODID:-//Plone.org//NONSGML plone.app.event//EN
X-WR-TIMEZONE:Europe/Berlin
BEGIN:VEVENT
SUMMARY:Cantina Latina
DTSTART;TZID=Europe/Berlin:20120106T210000
DTSTAMP:20260422T171148Z
UID:18df1e9d387d46e1931122687555ffe8@zmi.spielboden.at
CREATED:20120910T122804Z
LAST-MODIFIED:20120910T122804Z
URL:https://zmi.spielboden.at/Plone/veranstaltungen/2012/01_jaenner/cantin
 a-latina
END:VEVENT
BEGIN:VTIMEZONE
TZID:Europe/Berlin
X-LIC-LOCATION:Europe/Berlin
BEGIN:STANDARD
DTSTART:20111030T020000
TZNAME:CET
TZOFFSETFROM:+0200
TZOFFSETTO:+0100
END:STANDARD
END:VTIMEZONE
END:VCALENDAR
