BEGIN:VCALENDAR
VERSION:2.0
PRODID:-//Plone.org//NONSGML plone.app.event//EN
X-WR-TIMEZONE:Europe/Berlin
BEGIN:VEVENT
SUMMARY:...und sie singen noch immer! – BRUJI & BALIŠ
DTSTART;TZID=Europe/Berlin:20120128T203000
DTSTAMP:20260422T171147Z
UID:ea643a42ec114922a5f67675c0de4aaf@zmi.spielboden.at
CREATED:20120910T122654Z
DESCRIPTION:Ein Projekt der beiden Rockbands BRUJI (Burgenlandkroaten) und
  BALIŠ (Kärntner Slowenen)\, begleitet mit Informationen über die Lage 
 der Volksgruppen in Österreich.
LAST-MODIFIED:20210809T123357Z
URL:https://zmi.spielboden.at/Plone/veranstaltungen/2012/01_jaenner/201e-u
 nd-sie-singen-noch-immer-201c
END:VEVENT
BEGIN:VTIMEZONE
TZID:Europe/Berlin
X-LIC-LOCATION:Europe/Berlin
BEGIN:STANDARD
DTSTART:20111030T020000
TZNAME:CET
TZOFFSETFROM:+0200
TZOFFSETTO:+0100
END:STANDARD
END:VTIMEZONE
END:VCALENDAR
