BEGIN:VCALENDAR
VERSION:2.0
PRODID:-//Plone.org//NONSGML plone.app.event//EN
X-WR-TIMEZONE:Europe/Berlin
BEGIN:VEVENT
SUMMARY:Krebshilfe Benefiz Konzert - Love\, Death & Devil
DTSTART;TZID=Europe/Berlin:20120105T200000
DTSTAMP:20260422T172309Z
UID:b6278e910bf147008b571e1bb8ee613c@zmi.spielboden.at
CREATED:20120910T122552Z
LAST-MODIFIED:20210809T123354Z
URL:https://zmi.spielboden.at/Plone/veranstaltungen/2012/01_jaenner/2011-0
 1-05-20-30-krebshilfe-benefiz-konzert-the-blues-is-here-to-stay
END:VEVENT
BEGIN:VTIMEZONE
TZID:Europe/Berlin
X-LIC-LOCATION:Europe/Berlin
BEGIN:STANDARD
DTSTART:20111030T020000
TZNAME:CET
TZOFFSETFROM:+0200
TZOFFSETTO:+0100
END:STANDARD
END:VTIMEZONE
END:VCALENDAR
