BEGIN:VCALENDAR
VERSION:2.0
PRODID:-//Plone.org//NONSGML plone.app.event//EN
X-WR-TIMEZONE:Europe/Berlin
BEGIN:VEVENT
SUMMARY:Bird's Nest
DTSTART;TZID=Europe/Berlin:20081031T203000
DTSTAMP:20260425T235035Z
UID:4a94d1b0c6f1434e96eb100f97fa214e@zmi.spielboden.at
CREATED:20120822T144431Z
DESCRIPTION:Schweizer Dokumentarfilme am Spielboden\, im Filmforum Bregen 
 und im FKC Dornbirn
LAST-MODIFIED:20210809T123428Z
URL:https://zmi.spielboden.at/Plone/veranstaltungen/2008/10_oktober/2008-1
 0-31-20-30-birds-nest
END:VEVENT
BEGIN:VTIMEZONE
TZID:Europe/Berlin
X-LIC-LOCATION:Europe/Berlin
BEGIN:STANDARD
DTSTART:20081026T020000
TZNAME:CET
TZOFFSETFROM:+0200
TZOFFSETTO:+0100
END:STANDARD
END:VTIMEZONE
END:VCALENDAR
