BEGIN:VCALENDAR
VERSION:2.0
PRODID:-//Plone.org//NONSGML plone.app.event//EN
X-WR-TIMEZONE:Europe/Berlin
BEGIN:VEVENT
SUMMARY:Bernadette La Hengst
DTSTART;TZID=Europe/Berlin:20081030T210000
DTSTAMP:20260426T011323Z
UID:e41a981ada4f4c22a15cd8bbf88aebe0@zmi.spielboden.at
CREATED:20120822T145642Z
DESCRIPTION:SONGS & VOICES # 3
LAST-MODIFIED:20210809T123801Z
URL:https://zmi.spielboden.at/Plone/veranstaltungen/2008/10_oktober/2008-1
 0-30-21-00-bernadette-la-hengst
END:VEVENT
BEGIN:VTIMEZONE
TZID:Europe/Berlin
X-LIC-LOCATION:Europe/Berlin
BEGIN:STANDARD
DTSTART:20081026T020000
TZNAME:CET
TZOFFSETFROM:+0200
TZOFFSETTO:+0100
END:STANDARD
END:VTIMEZONE
END:VCALENDAR
