BEGIN:VCALENDAR
VERSION:2.0
PRODID:-//Plone.org//NONSGML plone.app.event//EN
X-WR-TIMEZONE:Europe/Berlin
BEGIN:VEVENT
SUMMARY:Signers Koffer
DTSTART;TZID=Europe/Berlin:20081030T203000
DTSTAMP:20260425T235539Z
UID:6e72323b28f74b88a1813b331fb8853e@zmi.spielboden.at
CREATED:20120822T145655Z
DESCRIPTION:Schweizer Dokumentarfilme am Spielboden\, im Filmforum Bregen 
 und im FKC Dornbirn
LAST-MODIFIED:20210809T123803Z
URL:https://zmi.spielboden.at/Plone/veranstaltungen/2008/10_oktober/2008-1
 0-30-20-30-signers-koffer
END:VEVENT
BEGIN:VTIMEZONE
TZID:Europe/Berlin
X-LIC-LOCATION:Europe/Berlin
BEGIN:STANDARD
DTSTART:20081026T020000
TZNAME:CET
TZOFFSETFROM:+0200
TZOFFSETTO:+0100
END:STANDARD
END:VTIMEZONE
END:VCALENDAR
