BEGIN:VCALENDAR
VERSION:2.0
PRODID:-//Plone.org//NONSGML plone.app.event//EN
X-WR-TIMEZONE:Europe/Berlin
BEGIN:VEVENT
SUMMARY:FLAMENCO elementar - Uraufführung Österreichpremiere
DTSTART;TZID=Europe/Berlin:20081023T203000
DTSTAMP:20260425T212229Z
UID:95d7cd850f5d4a83ba1bb2bc0137c5b1@zmi.spielboden.at
CREATED:20120822T145635Z
DESCRIPTION:tanz ist FLAMENCO elementar 20 bis 25. Oktober 2008
LAST-MODIFIED:20210809T123800Z
URL:https://zmi.spielboden.at/Plone/veranstaltungen/2008/10_oktober/2008-1
 0-23-20-30-flamenco-elementar-urauffuehrung-oesterreichpremiere
END:VEVENT
BEGIN:VTIMEZONE
TZID:Europe/Berlin
X-LIC-LOCATION:Europe/Berlin
BEGIN:DAYLIGHT
DTSTART:20080330T030000
TZNAME:CEST
TZOFFSETFROM:+0100
TZOFFSETTO:+0200
END:DAYLIGHT
END:VTIMEZONE
END:VCALENDAR
