BEGIN:VCALENDAR
VERSION:2.0
PRODID:-//Plone.org//NONSGML plone.app.event//EN
X-WR-TIMEZONE:Europe/Berlin
BEGIN:VEVENT
SUMMARY:FLAMENCO elementar - Musical Flamenco Teil 2 und 3
DTSTART;TZID=Europe/Berlin:20081022T203000
DTSTAMP:20260425T195254Z
UID:00311b9025f74432a177a3b4172379f0@zmi.spielboden.at
CREATED:20120822T145634Z
DESCRIPTION:tanz ist FLAMENCO elementar 20 bis 25. Oktober 2008
LAST-MODIFIED:20210809T123800Z
URL:https://zmi.spielboden.at/Plone/veranstaltungen/2008/10_oktober/2008-1
 0-22-20-30-flamenco-elementar-musical-flamenco-teil-2-und-3
END:VEVENT
BEGIN:VTIMEZONE
TZID:Europe/Berlin
X-LIC-LOCATION:Europe/Berlin
BEGIN:DAYLIGHT
DTSTART:20080330T030000
TZNAME:CEST
TZOFFSETFROM:+0100
TZOFFSETTO:+0200
END:DAYLIGHT
END:VTIMEZONE
END:VCALENDAR
